BEGIN:VCALENDAR
VERSION:2.0
PRODID:icalendar-ruby
CALSCALE:GREGORIAN
METHOD:PUBLISH
BEGIN:VEVENT
DTSTAMP:20260422T113953Z
UID:10-983151@clairmontcommunitychurch.com
DTSTART:20260913T160000Z
DTEND:20260913T180000Z
CLASS:PUBLIC
CREATED:20260422T041354
DESCRIPTION:Join us weekly for coffee and worship! Coffee is hot at 10:00 a
 m with worship starting at 10:15 am.\n \n 
LAST-MODIFIED:20260422T041354
LOCATION:Main Sanctuary
SUMMARY:Worship Service
URL;VALUE=URI:https://www.clairmontcommunitychurch.com/events/worship-servi
 ce/2026-09-13
END:VEVENT
END:VCALENDAR
