BEGIN:VCALENDAR
VERSION:2.0
PRODID:icalendar-ruby
CALSCALE:GREGORIAN
METHOD:PUBLISH
BEGIN:VEVENT
DTSTAMP:20260422T230938Z
UID:10-985022@clairmontcommunitychurch.com
DTSTART:20261101T170000Z
DTEND:20261101T190000Z
CLASS:PUBLIC
CREATED:20260422T155308
DESCRIPTION:Join us weekly for coffee and worship! Coffee is hot at 10:00 a
 m with worship starting at 10:15 am.\n \n 
LAST-MODIFIED:20260422T155308
LOCATION:Main Sanctuary
SUMMARY:Worship Service
URL;VALUE=URI:https://www.clairmontcommunitychurch.com/events/worship-servi
 ce/2026-11-01
END:VEVENT
END:VCALENDAR
